BEGIN:VCALENDAR
VERSION:2.0
PRODID:-//Plone.org//NONSGML plone.app.event//EN
X-WR-TIMEZONE:America/Sao_Paulo
BEGIN:VEVENT
SUMMARY:Reunião COPI e Diretorias - apresentação de projetos em [ Audit
 ório B107 do CAD3]
DTSTART;TZID=America/Sao_Paulo;VALUE=DATE-TIME:20230419T100000
DTEND;TZID=America/Sao_Paulo;VALUE=DATE-TIME:20230420T170000
DTSTAMP;VALUE=DATE-TIME:20260421T152521Z
UID:49724ef40525440ca7b3d4e0a777cfeb@150.164.76.86:8080
CREATED;VALUE=DATE-TIME:20230328T170234Z
DESCRIPTION:<p><span>Reunião com servidores(as) indicados(as) pelas diret
 orias de unidades acadêmica e administrativas (vinculadas á administraç
 ão central) para orientações sobre como melhor apresentar projetos para
  a captação de recursos via emendas parlamentares. Pode ser também que 
 contemos com alguns docentes e mesmo diretores/as.</span></p>\n<p><span>Pr
 ogramação: <span>pela manhã\, no dia 19/04\, de 10 ao meio dia\; e à 
 tarde\, no dia 20/04\, de 15 às 17 horas.</span></span></p>\n<div>O que n
 ecessitamos:</div>\n<div>1. Iremos projetar slides\, portanto\, precisamos
  de apoio e de equipamentos para esta demanda. </div>\n<div>2. Precisamos
 \, por favor\, de sistema de microfone - para aqueles que integram a equip
 e da Copi que vão ministrar o treinamento e para as pessoas presentes\, q
 ue podem apresentar perguntas.</div>\n<div>3. Seria interessante\, ainda\,
  se pudéssemos contar com a gravação de apenas uma dessas duas reuniõe
 s\, para que possamos compartilhar o conteúdo em outros momentos e em raz
 ão de novas necessidades. A gravação é mais importante que a transmiss
 ão\, pois poderemos fazer a inserção dos slides no vídeo\, o que garan
 te melhor visibilidade para as informações a serem compartilhadas. </di
 v>\n<p> </p>
LAST-MODIFIED;VALUE=DATE-TIME:20230328T170248Z
URL:http://150.164.76.86:8080/cac/agenda/16968397424423248603
END:VEVENT
BEGIN:VTIMEZONE
TZID:America/Sao_Paulo
X-LIC-LOCATION:America/Sao_Paulo
BEGIN:STANDARD
DTSTART;VALUE=DATE-TIME:20230225T230000
TZNAME:BRT
TZOFFSETFROM:-0200
TZOFFSETTO:-0300
END:STANDARD
END:VTIMEZONE
END:VCALENDAR
