BEGIN:VCALENDAR
VERSION:2.0
PRODID:-//Plone.org//NONSGML plone.app.event//EN
X-WR-TIMEZONE:America/Sao_Paulo
BEGIN:VEVENT
SUMMARY:Feira Preta - Novembro Negro UFMG 2023 em [ Entorno da Praca de Se
 rvicos]
DTSTART;TZID=America/Sao_Paulo;VALUE=DATE-TIME:20231120T072200
DTEND;TZID=America/Sao_Paulo;VALUE=DATE-TIME:20231121T072200
DTSTAMP;VALUE=DATE-TIME:20260420T132048Z
UID:3590b0530e1a4b798329183a00529ee7@150.164.76.86:8080
CREATED;VALUE=DATE-TIME:20230901T140044Z
DESCRIPTION:A Feira Preta é uma das atividades organizadas para ser reali
 zada durante a realização do Novembro Negro UFMG 2023.\n\nConsiste em um
 a feira a ser realizada no entorno da PRAÇA DE SERVIÇOS com a reunião d
 e diferentes expositores.
LAST-MODIFIED;VALUE=DATE-TIME:20230904T145034Z
URL:http://150.164.76.86:8080/cac/agenda/16956353924626151623
END:VEVENT
BEGIN:VTIMEZONE
TZID:America/Sao_Paulo
X-LIC-LOCATION:America/Sao_Paulo
BEGIN:DAYLIGHT
DTSTART;VALUE=DATE-TIME:20231015T010000
TZNAME:BRST
TZOFFSETFROM:-0300
TZOFFSETTO:-0200
END:DAYLIGHT
END:VTIMEZONE
END:VCALENDAR
