BEGIN:VCALENDAR
VERSION:2.0
PRODID:-//Plone.org//NONSGML plone.app.event//EN
X-WR-TIMEZONE:America/Sao_Paulo
BEGIN:VEVENT
SUMMARY:Picaderró: Forró no campus em [ Arena da praça de serviços]
DTSTART;TZID=America/Sao_Paulo;VALUE=DATE-TIME:20250514T173000
DTEND;TZID=America/Sao_Paulo;VALUE=DATE-TIME:20250514T183000
DTSTAMP;VALUE=DATE-TIME:20260419T091057Z
UID:1cfd151ff58e46ceb79c9590272a23d9@150.164.76.86:8080
CREATED;VALUE=DATE-TIME:20250316T004232Z
DESCRIPTION:Evento de dança aberto ao público geral
LAST-MODIFIED;VALUE=DATE-TIME:20250317T151054Z
URL:http://150.164.76.86:8080/cac/agenda/16940302471223382713
END:VEVENT
BEGIN:VTIMEZONE
TZID:America/Sao_Paulo
X-LIC-LOCATION:America/Sao_Paulo
BEGIN:STANDARD
DTSTART;VALUE=DATE-TIME:20250215T230000
TZNAME:BRT
TZOFFSETFROM:-0200
TZOFFSETTO:-0300
END:STANDARD
END:VTIMEZONE
END:VCALENDAR
