BEGIN:VCALENDAR
VERSION:2.0
PRODID:-//Plone.org//NONSGML plone.app.event//EN
X-WR-TIMEZONE:America/Sao_Paulo
BEGIN:VEVENT
SUMMARY:Reunião Foripes em [ Outros espacos]
DTSTART;TZID=America/Sao_Paulo;VALUE=DATE-TIME:20230816T080000
DTEND;TZID=America/Sao_Paulo;VALUE=DATE-TIME:20230816T120000
DTSTAMP;VALUE=DATE-TIME:20260421T091542Z
UID:4b099647637944d5aaae8436bd64d4e8@150.164.76.86:8080
CREATED;VALUE=DATE-TIME:20230808T132254Z
DESCRIPTION:<p>Reunião</p>
LAST-MODIFIED;VALUE=DATE-TIME:20230808T132304Z
URL:http://150.164.76.86:8080/cac/agenda/16936556585443335166
END:VEVENT
BEGIN:VTIMEZONE
TZID:America/Sao_Paulo
X-LIC-LOCATION:America/Sao_Paulo
BEGIN:STANDARD
DTSTART;VALUE=DATE-TIME:20230225T230000
TZNAME:BRT
TZOFFSETFROM:-0200
TZOFFSETTO:-0300
END:STANDARD
END:VTIMEZONE
END:VCALENDAR
