BEGIN:VCALENDAR
VERSION:2.0
PRODID:-//Plone.org//NONSGML plone.app.event//EN
X-WR-TIMEZONE:America/Sao_Paulo
BEGIN:VEVENT
SUMMARY:Colação de grau dos cursos de Educação Física em [ Auditorio 
 Nobre do CAD 1]
DTSTART;TZID=America/Sao_Paulo;VALUE=DATE-TIME:20220816T090000
DTEND;TZID=America/Sao_Paulo;VALUE=DATE-TIME:20220816T120000
DTSTAMP;VALUE=DATE-TIME:20260422T024719Z
UID:ea785e87fbaf482981693c9b774ab205@150.164.76.86:8080
CREATED;VALUE=DATE-TIME:20220331T182021Z
DESCRIPTION:Programação: colação de grau\n\nEquipamentos:\n\nmesa prin
 cipal\, sendo (mais ou menos) 09 pessoas que irão compor a mesa\n\n haste
 ar e disponibilizar a Bandeira do Brasil\, a de Minas Gerais e da UFMG\n\n
 técnico do som no dia da colação\, para colocar o hino Nacional (cantad
 o\, se possível) e organizar os microfones
LAST-MODIFIED;VALUE=DATE-TIME:20220404T160627Z
URL:http://150.164.76.86:8080/cac/agenda/16907230851799219641
END:VEVENT
BEGIN:VTIMEZONE
TZID:America/Sao_Paulo
X-LIC-LOCATION:America/Sao_Paulo
BEGIN:STANDARD
DTSTART;VALUE=DATE-TIME:20220219T230000
TZNAME:BRT
TZOFFSETFROM:-0200
TZOFFSETTO:-0300
END:STANDARD
END:VTIMEZONE
END:VCALENDAR
