BEGIN:VCALENDAR
VERSION:2.0
PRODID:-//Plone.org//NONSGML plone.app.event//EN
X-WR-TIMEZONE:America/Sao_Paulo
BEGIN:VEVENT
SUMMARY:Colação de Grau Oficial FAFICH em [ Auditorio A102 do Cad 2]
DTSTART;TZID=America/Sao_Paulo;VALUE=DATE-TIME:20240125T160000
DTEND;TZID=America/Sao_Paulo;VALUE=DATE-TIME:20240125T220000
DTSTAMP;VALUE=DATE-TIME:20260420T100648Z
UID:2d9c9da89e37499aa691fcb71a7ba783@150.164.76.86:8080
CREATED;VALUE=DATE-TIME:20231030T142229Z
DESCRIPTION:<p>Colação oficial dos cursos de graduação da FAFICH</p>
LAST-MODIFIED;VALUE=DATE-TIME:20231116T124914Z
URL:http://150.164.76.86:8080/cac/agenda/16900631609854375927
END:VEVENT
BEGIN:VTIMEZONE
TZID:America/Sao_Paulo
X-LIC-LOCATION:America/Sao_Paulo
BEGIN:DAYLIGHT
DTSTART;VALUE=DATE-TIME:20231015T010000
TZNAME:BRST
TZOFFSETFROM:-0300
TZOFFSETTO:-0200
END:DAYLIGHT
END:VTIMEZONE
END:VCALENDAR
