BEGIN:VCALENDAR
VERSION:2.0
PRODID:-//Plone.org//NONSGML plone.app.event//EN
X-WR-TIMEZONE:America/Sao_Paulo
BEGIN:VEVENT
SUMMARY:Semana Pré Festival de Inverno-Seminário iberoamericano de econo
 mia da cultura em [ Arena da praça de serviços]
DTSTART;TZID=America/Sao_Paulo;VALUE=DATE-TIME:20220627T100000
DTEND;TZID=America/Sao_Paulo;VALUE=DATE-TIME:20220630T170000
DTSTAMP;VALUE=DATE-TIME:20260422T063629Z
UID:789be433c2334249a4ea3e455a353a0e@150.164.76.86:8080
CREATED;VALUE=DATE-TIME:20220429T192808Z
DESCRIPTION:III Seminário em parceria FACE e DAC
LAST-MODIFIED;VALUE=DATE-TIME:20220503T125059Z
URL:http://150.164.76.86:8080/cac/agenda/16886938391925924056
END:VEVENT
BEGIN:VTIMEZONE
TZID:America/Sao_Paulo
X-LIC-LOCATION:America/Sao_Paulo
BEGIN:STANDARD
DTSTART;VALUE=DATE-TIME:20220219T230000
TZNAME:BRT
TZOFFSETFROM:-0200
TZOFFSETTO:-0300
END:STANDARD
END:VTIMEZONE
END:VCALENDAR
