BEGIN:VCALENDAR
VERSION:2.0
PRODID:-//Plone.org//NONSGML plone.app.event//EN
X-WR-TIMEZONE:America/Sao_Paulo
BEGIN:VEVENT
SUMMARY:Colação de Grau Oficial do Curso de Farmácia Diurno em [ Audito
 rio A104 do Cad 2]
DTSTART;TZID=America/Sao_Paulo;VALUE=DATE-TIME:20240116T160000
DTEND;TZID=America/Sao_Paulo;VALUE=DATE-TIME:20240116T210000
DTSTAMP;VALUE=DATE-TIME:20260420T080956Z
UID:7c4344454a4040b39f2d5a6174ebfe2d@150.164.76.86:8080
CREATED;VALUE=DATE-TIME:20231222T132355Z
DESCRIPTION:Solenidade de Colação de Grau Oficial do Curso de Farmácia 
 Diurno da Faculdade de Farmácia da Universidade Federal de Minas Gerais
LAST-MODIFIED;VALUE=DATE-TIME:20231226T140346Z
URL:http://150.164.76.86:8080/cac/agenda/16882341999284293016
END:VEVENT
BEGIN:VTIMEZONE
TZID:America/Sao_Paulo
X-LIC-LOCATION:America/Sao_Paulo
BEGIN:DAYLIGHT
DTSTART;VALUE=DATE-TIME:20231015T010000
TZNAME:BRST
TZOFFSETFROM:-0300
TZOFFSETTO:-0200
END:DAYLIGHT
END:VTIMEZONE
END:VCALENDAR
