BEGIN:VCALENDAR
VERSION:2.0
PRODID:-//Plone.org//NONSGML plone.app.event//EN
X-WR-TIMEZONE:America/Sao_Paulo
BEGIN:VEVENT
SUMMARY:Entrega de medalhas OBMEP em [ Auditorio Nobre do CAD 1]
DTSTART;TZID=America/Sao_Paulo;VALUE=DATE-TIME:20230509T190000
DTEND;TZID=America/Sao_Paulo;VALUE=DATE-TIME:20230509T203000
DTSTAMP;VALUE=DATE-TIME:20260421T115927Z
UID:6559e1fe78194d4fbdf9f06ca0ef9c6f@150.164.76.86:8080
CREATED;VALUE=DATE-TIME:20230418T150817Z
DESCRIPTION:<p>Entrega de medalhas de prata e bronze das Olimpíada de Mat
 emática de Escolas Públicas (OBMEP). Haverá credenciamento antes do eve
 nto no espaço de fora do auditório. Iremos contratar o técnico para a r
 ealização do evento.</p>
LAST-MODIFIED;VALUE=DATE-TIME:20230420T123239Z
URL:http://150.164.76.86:8080/cac/agenda/16880697461363657970
END:VEVENT
BEGIN:VTIMEZONE
TZID:America/Sao_Paulo
X-LIC-LOCATION:America/Sao_Paulo
BEGIN:STANDARD
DTSTART;VALUE=DATE-TIME:20230225T230000
TZNAME:BRT
TZOFFSETFROM:-0200
TZOFFSETTO:-0300
END:STANDARD
END:VTIMEZONE
END:VCALENDAR
