BEGIN:VCALENDAR
VERSION:2.0
PRODID:-//Plone.org//NONSGML plone.app.event//EN
X-WR-TIMEZONE:America/Sao_Paulo
BEGIN:VEVENT
SUMMARY:Concurso Público para Professor Efetivo - Edital 2285/2024 - Prof
 essor EBTT de Química - Colégio Técnico em [ Auditório B101/102 do CAD
  3]
DTSTART;TZID=America/Sao_Paulo;VALUE=DATE-TIME:20250217T080000
DTEND;TZID=America/Sao_Paulo;VALUE=DATE-TIME:20250217T200000
DTSTAMP;VALUE=DATE-TIME:20260419T145247Z
UID:bef39136c6f747fe9c209c9b061164e4@150.164.76.86:8080
CREATED;VALUE=DATE-TIME:20241223T152652Z
DESCRIPTION:<p>Será necessário o uso de microfone. Programação do even
 to: - Instalação da Banca Examinadora do Concurso Público: de 08:00 às
  12:00. Provas de 13h às 20h. </p>
LAST-MODIFIED;VALUE=DATE-TIME:20250107T161919Z
URL:http://150.164.76.86:8080/cac/agenda/16842817684251715816
END:VEVENT
BEGIN:VTIMEZONE
TZID:America/Sao_Paulo
X-LIC-LOCATION:America/Sao_Paulo
BEGIN:STANDARD
DTSTART;VALUE=DATE-TIME:20250215T230000
TZNAME:BRT
TZOFFSETFROM:-0200
TZOFFSETTO:-0300
END:STANDARD
END:VTIMEZONE
END:VCALENDAR
