BEGIN:VCALENDAR
VERSION:2.0
PRODID:-//Plone.org//NONSGML plone.app.event//EN
X-WR-TIMEZONE:America/Sao_Paulo
BEGIN:VEVENT
SUMMARY:Feira EBA em [ Entorno da Praca de Servicos]
DTSTART;TZID=America/Sao_Paulo;VALUE=DATE-TIME:20250116T060000
DTEND;TZID=America/Sao_Paulo;VALUE=DATE-TIME:20250117T200000
DTSTAMP;VALUE=DATE-TIME:20260419T133022Z
UID:3101922228934f439bb5c9d3cb71ca0f@150.164.76.86:8080
CREATED;VALUE=DATE-TIME:20241106T015941Z
DESCRIPTION:Não serão necessários equipamentos adicionais.
LAST-MODIFIED;VALUE=DATE-TIME:20241106T163324Z
URL:http://150.164.76.86:8080/cac/agenda/16783104314093828709
END:VEVENT
BEGIN:VTIMEZONE
TZID:America/Sao_Paulo
X-LIC-LOCATION:America/Sao_Paulo
BEGIN:DAYLIGHT
DTSTART;VALUE=DATE-TIME:20241020T010000
TZNAME:BRST
TZOFFSETFROM:-0300
TZOFFSETTO:-0200
END:DAYLIGHT
END:VTIMEZONE
END:VCALENDAR
