BEGIN:VCALENDAR
VERSION:2.0
PRODID:-//Plone.org//NONSGML plone.app.event//EN
X-WR-TIMEZONE:America/Sao_Paulo
BEGIN:VEVENT
SUMMARY:Palestra: Jonas Domingues - Consultoria\, finanças e gestão em [
  Auditório B106 do CAD3]
DTSTART;TZID=America/Sao_Paulo;VALUE=DATE-TIME:20220928T173000
DTEND;TZID=America/Sao_Paulo;VALUE=DATE-TIME:20220928T200000
DTSTAMP;VALUE=DATE-TIME:20260422T024832Z
UID:c5447659db9142279a5bf8c5d3cf1b39@150.164.76.86:8080
CREATED;VALUE=DATE-TIME:20220921T150645Z
DESCRIPTION:<p>Evento organizado pela Inderios Consultoria\, projeto de ex
 tensão da UFMG. A palestra vai abordar assuntos sobre consultoria\, finan
 ças e gestão com um convidado externo Jonas Domingues\, fundador da empr
 esa Padoque. Início: 18:00 Final: 19:30 Vamos precisar de microfone e pro
 jetor para colocar a apresentação.</p>
LAST-MODIFIED;VALUE=DATE-TIME:20220923T152859Z
URL:http://150.164.76.86:8080/cac/agenda/16782320964654604691
END:VEVENT
BEGIN:VTIMEZONE
TZID:America/Sao_Paulo
X-LIC-LOCATION:America/Sao_Paulo
BEGIN:STANDARD
DTSTART;VALUE=DATE-TIME:20220219T230000
TZNAME:BRT
TZOFFSETFROM:-0200
TZOFFSETTO:-0300
END:STANDARD
END:VTIMEZONE
END:VCALENDAR
