BEGIN:VCALENDAR
VERSION:2.0
PRODID:-//Plone.org//NONSGML plone.app.event//EN
X-WR-TIMEZONE:America/Sao_Paulo
BEGIN:VEVENT
SUMMARY:CAPACIDADE EXCEDIDA em [ Em torno da Praca de Servicos Auditorio A
 102 do Cad 2]
DTSTART;TZID=America/Sao_Paulo;VALUE=DATE-TIME:20200511T000000
DTEND;TZID=America/Sao_Paulo;VALUE=DATE-TIME:20200515T230000
DTSTAMP;VALUE=DATE-TIME:20260424T233858Z
UID:b8e48a47e7b44d0d8a86141e77de27ca@150.164.76.86:8080
CREATED;VALUE=DATE-TIME:20200114T203737Z
DESCRIPTION:<p>A pedido da coordenadora da CAC Cássia Monteiro\, aprovado
  em reuniões dos dias 09 e 10/01/2020.<br />Atenciosamente<br />Coordenad
 oria de Assuntos Comunitários</p>
LAST-MODIFIED;VALUE=DATE-TIME:20200131T132523Z
URL:http://150.164.76.86:8080/cac/agenda/16750614716714260246
END:VEVENT
BEGIN:VTIMEZONE
TZID:America/Sao_Paulo
X-LIC-LOCATION:America/Sao_Paulo
BEGIN:STANDARD
DTSTART;VALUE=DATE-TIME:20200215T230000
TZNAME:BRT
TZOFFSETFROM:-0200
TZOFFSETTO:-0300
END:STANDARD
END:VTIMEZONE
END:VCALENDAR
