BEGIN:VCALENDAR
VERSION:2.0
PRODID:-//Plone.org//NONSGML plone.app.event//EN
X-WR-TIMEZONE:America/Sao_Paulo
BEGIN:VEVENT
SUMMARY:ENCONTRO NACIONAL DE BRIGADISTAS VOLUNTÁRIOS em [ Outros espacos]
DTSTART;TZID=America/Sao_Paulo;VALUE=DATE-TIME:20220630T080000
DTEND;TZID=America/Sao_Paulo;VALUE=DATE-TIME:20220701T180000
DTSTAMP;VALUE=DATE-TIME:20260422T030631Z
UID:28f78fe4cc944440b4d736c743cc3ccf@150.164.76.86:8080
CREATED;VALUE=DATE-TIME:20220512T184659Z
DESCRIPTION:<p>MICROFONES\, DATASHOW E NOTEBOOK PARA APRESENTAÇÃO EM POW
 ERPOINT\, TRANSMISSÃO PELO YOUTUBE DA PROEX\, GRAVAÇÃO DO EVENTO O ENCO
 NTRO NACIONAL DE BRIGADISTAS VOLUNTÁRIOS É UM EVENTO QUE ESTÁ SENDO ORG
 ANIZADO PELA ESTAÇÃO ECOLÓGICA DA UFMG\, ÓRGÃO LIGADO Á PROEX\, CUJA
  PROGRAMAÇÃO PRELIMINAR É: - 30/06 - DE 8 ÁS 12 E DE 14 ÁS 18HORAS (C
 OM INTERVALO DE 1:30HORAS PARA O ALMOÇO) - 01/07 - DE 8 ÁS 12 E DE 14 Á
 S 18HORAS (COM INTERVALO DE 1:30HORAS PARA O ALMOÇO)</p>
LAST-MODIFIED;VALUE=DATE-TIME:20220519T181310Z
URL:http://150.164.76.86:8080/cac/agenda/16739270811614289990
END:VEVENT
BEGIN:VTIMEZONE
TZID:America/Sao_Paulo
X-LIC-LOCATION:America/Sao_Paulo
BEGIN:STANDARD
DTSTART;VALUE=DATE-TIME:20220219T230000
TZNAME:BRT
TZOFFSETFROM:-0200
TZOFFSETTO:-0300
END:STANDARD
END:VTIMEZONE
END:VCALENDAR
