BEGIN:VCALENDAR
VERSION:2.0
PRODID:-//Plone.org//NONSGML plone.app.event//EN
X-WR-TIMEZONE:America/Sao_Paulo
BEGIN:VEVENT
SUMMARY:Troca de Gestão da Engenharia Solidária em [ Auditório B106 do 
 CAD3 - s/ ar condicionado]
DTSTART;TZID=America/Sao_Paulo;VALUE=DATE-TIME:20250314T150000
DTEND;TZID=America/Sao_Paulo;VALUE=DATE-TIME:20250314T210000
DTSTAMP;VALUE=DATE-TIME:20260419T120424Z
UID:2fd157c5612e4befaf2f75e915651eb1@150.164.76.86:8080
CREATED;VALUE=DATE-TIME:20250205T175144Z
DESCRIPTION:<p>Evento de cerimônia de troca de gestão e passagem de ano 
 da iniciativa Engenharia Solidária\, um evento para apresentar e relembra
 r os feitos do grupo\, parabenizar alguns membros e despedir daqueles que 
 estão saindo\, portanto estaremos precisando de caixa de som\, projetor\,
  e cabos para conectar à ambos os aparelhos.</p>
LAST-MODIFIED;VALUE=DATE-TIME:20250206T133419Z
URL:http://150.164.76.86:8080/cac/agenda/16736584184437273493
END:VEVENT
BEGIN:VTIMEZONE
TZID:America/Sao_Paulo
X-LIC-LOCATION:America/Sao_Paulo
BEGIN:STANDARD
DTSTART;VALUE=DATE-TIME:20250215T230000
TZNAME:BRT
TZOFFSETFROM:-0200
TZOFFSETTO:-0300
END:STANDARD
END:VTIMEZONE
END:VCALENDAR
