BEGIN:VCALENDAR
VERSION:2.0
PRODID:-//Plone.org//NONSGML plone.app.event//EN
X-WR-TIMEZONE:America/Sao_Paulo
BEGIN:VEVENT
SUMMARY:Encontro de Abertura do Pibid 2024 em [ Outros espacos]
DTSTART;TZID=America/Sao_Paulo;VALUE=DATE-TIME:20241216T163000
DTEND;TZID=America/Sao_Paulo;VALUE=DATE-TIME:20241216T183000
DTSTAMP;VALUE=DATE-TIME:20260419T163711Z
UID:e7bc7829252148ea893d7cc48a472756@150.164.76.86:8080
CREATED;VALUE=DATE-TIME:20241209T191238Z
DESCRIPTION:Resumo: O encontro de abertura do Pibid da UFMG 2024 visa dar 
 as boas às vindas para os docentes supervisores da Educação Básica\, o
 s bolsistas de iniciação à docência\, que são estudantes dos cursos d
 e licenciatura da UFMG e os coordenadores de área\, que são docentes da 
 universidade. Serão compartilhadas questões estruturadoras do programa e
  os compromissos assumidos pelos sujeitos que vão compor os subprojetos v
 inculados aos cursos de licenciatura da UFMG.\n\nServiço solicitado: real
 ização de live e transmissão online\, com gravação para posterior dis
 ponibilização no canal da CAC.
LAST-MODIFIED;VALUE=DATE-TIME:20241210T131954Z
URL:http://150.164.76.86:8080/cac/agenda/16731407956422445023
END:VEVENT
BEGIN:VTIMEZONE
TZID:America/Sao_Paulo
X-LIC-LOCATION:America/Sao_Paulo
BEGIN:DAYLIGHT
DTSTART;VALUE=DATE-TIME:20241020T010000
TZNAME:BRST
TZOFFSETFROM:-0300
TZOFFSETTO:-0200
END:DAYLIGHT
END:VTIMEZONE
END:VCALENDAR
