BEGIN:VCALENDAR
VERSION:2.0
PRODID:-//Plone.org//NONSGML plone.app.event//EN
X-WR-TIMEZONE:America/Sao_Paulo
BEGIN:VEVENT
SUMMARY:Encontro de Orientação para estudantes que realizarão mobilidad
 e em 2024/2 em [ Auditorio A104 do Cad 2]
DTSTART;TZID=America/Sao_Paulo;VALUE=DATE-TIME:20240402T170000
DTEND;TZID=America/Sao_Paulo;VALUE=DATE-TIME:20240403T150000
DTSTAMP;VALUE=DATE-TIME:20260420T031129Z
UID:6ac8771e0c974a7d9dfa94fc5276f5b1@150.164.76.86:8080
CREATED;VALUE=DATE-TIME:20240112T140537Z
DESCRIPTION:<p>Encontro de Orientação sobre as mobilidades que ocorrerã
 o no segundo semestre 2024. O evento é voltado para os estudantes alocado
 s e também para aqueles habilitados que têm expectativa de serem alocado
 s nas próximas rodadas. Materiais para transmissão de slide e microfones
 . Programação: 02/04\, de 17h30 às 20h 03/04\, de 11h30 às 14h</p>
LAST-MODIFIED;VALUE=DATE-TIME:20240318T152111Z
URL:http://150.164.76.86:8080/cac/agenda/16726731433269700982
END:VEVENT
BEGIN:VTIMEZONE
TZID:America/Sao_Paulo
X-LIC-LOCATION:America/Sao_Paulo
BEGIN:STANDARD
DTSTART;VALUE=DATE-TIME:20240217T230000
TZNAME:BRT
TZOFFSETFROM:-0200
TZOFFSETTO:-0300
END:STANDARD
END:VTIMEZONE
END:VCALENDAR
