BEGIN:VCALENDAR
VERSION:2.0
PRODID:-//Plone.org//NONSGML plone.app.event//EN
X-WR-TIMEZONE:America/Sao_Paulo
BEGIN:VEVENT
SUMMARY:Boca de rua: ruologia e direito à cidade em [ Auditorio A104 do C
 ad 2]
DTSTART;TZID=America/Sao_Paulo;VALUE=DATE-TIME:20230822T130000
DTEND;TZID=America/Sao_Paulo;VALUE=DATE-TIME:20230822T180000
DTSTAMP;VALUE=DATE-TIME:20260421T102952Z
UID:accaa6b1448a46e2972b221084310f83@150.164.76.86:8080
CREATED;VALUE=DATE-TIME:20230807T132651Z
DESCRIPTION:<p>Se trata de um evento preparatório para o colóquio "UBUNT
 U - 2o. Colóquio Internacional de Decolonização e Psicanálise - O mal-
 estar colonial: nossas terras\, línguas\, corpos\, memórias e horizontes
  de transformação" em que será realizada a exibição do documentário 
 "De Olhos Abertos" seguida de uma discussão com o Jornal Boca de Rua. Eve
 nto híbrido com transmissão via Zoom. Equipamentos necessários: Microfo
 nes\, caixas de som\, projetor</p>
LAST-MODIFIED;VALUE=DATE-TIME:20230810T135722Z
URL:http://150.164.76.86:8080/cac/agenda/16725291965273945271
END:VEVENT
BEGIN:VTIMEZONE
TZID:America/Sao_Paulo
X-LIC-LOCATION:America/Sao_Paulo
BEGIN:STANDARD
DTSTART;VALUE=DATE-TIME:20230225T230000
TZNAME:BRT
TZOFFSETFROM:-0200
TZOFFSETTO:-0300
END:STANDARD
END:VTIMEZONE
END:VCALENDAR
