BEGIN:VCALENDAR
VERSION:2.0
PRODID:-//Plone.org//NONSGML plone.app.event//EN
X-WR-TIMEZONE:America/Sao_Paulo
BEGIN:VEVENT
SUMMARY:Formação de Profissionais da Educação da PBH\, parceira com C0
 MFIC/PROGRAD em [ Auditorio Nobre do CAD 1]
DTSTART;TZID=America/Sao_Paulo;VALUE=DATE-TIME:20240122T080000
DTEND;TZID=America/Sao_Paulo;VALUE=DATE-TIME:20240126T170000
DTSTAMP;VALUE=DATE-TIME:20260420T080652Z
UID:8191b7980b814ef79d2d9dace7dd9a83@150.164.76.86:8080
CREATED;VALUE=DATE-TIME:20231212T192119Z
DESCRIPTION:Projeção\, microfone de mesa\, microfone avulso ou com pedes
 tal.
LAST-MODIFIED;VALUE=DATE-TIME:20231222T144010Z
URL:http://150.164.76.86:8080/cac/agenda/16720207741201603711
END:VEVENT
BEGIN:VTIMEZONE
TZID:America/Sao_Paulo
X-LIC-LOCATION:America/Sao_Paulo
BEGIN:DAYLIGHT
DTSTART;VALUE=DATE-TIME:20231015T010000
TZNAME:BRST
TZOFFSETFROM:-0300
TZOFFSETTO:-0200
END:DAYLIGHT
END:VTIMEZONE
END:VCALENDAR
