BEGIN:VCALENDAR
VERSION:2.0
PRODID:-//Plone.org//NONSGML plone.app.event//EN
X-WR-TIMEZONE:America/Sao_Paulo
BEGIN:VEVENT
SUMMARY:Programa Incluir em [ Arena da praça de serviços]
DTSTART;TZID=America/Sao_Paulo;VALUE=DATE-TIME:20240406T080000
DTEND;TZID=America/Sao_Paulo;VALUE=DATE-TIME:20240406T130000
DTSTAMP;VALUE=DATE-TIME:20260420T044605Z
UID:042113d9f9fe4d9da6e2507b314815f8@150.164.76.86:8080
CREATED;VALUE=DATE-TIME:20240325T172932Z
DESCRIPTION:RECEPÇÃO DE NOVOS ALUNOS E RESPECTIVOS PAIS\n\nO Programa In
 cluir -é um projeto de Inclusão Social existente na Escola de Engenharia
  que beneficia centenas de crianças\, adolescentes e seus pais. Sãlo pes
 soas provenientes\n da perferia de BH e demais cidades vizinhas.
LAST-MODIFIED;VALUE=DATE-TIME:20240325T183633Z
URL:http://150.164.76.86:8080/cac/agenda/16710864643239775903
END:VEVENT
BEGIN:VTIMEZONE
TZID:America/Sao_Paulo
X-LIC-LOCATION:America/Sao_Paulo
BEGIN:STANDARD
DTSTART;VALUE=DATE-TIME:20240217T230000
TZNAME:BRT
TZOFFSETFROM:-0200
TZOFFSETTO:-0300
END:STANDARD
END:VTIMEZONE
END:VCALENDAR
