BEGIN:VCALENDAR
VERSION:2.0
PRODID:-//Plone.org//NONSGML plone.app.event//EN
X-WR-TIMEZONE:America/Sao_Paulo
BEGIN:VEVENT
SUMMARY:Quarta Doze e Trinta e Ao cair da Tarde em [ Outros espacos]
DTSTART;TZID=America/Sao_Paulo;VALUE=DATE-TIME:20231003T080000
DTEND;TZID=America/Sao_Paulo;VALUE=DATE-TIME:20231006T210000
DTSTAMP;VALUE=DATE-TIME:20260420T130655Z
UID:8d3599348f8f43479fcc8ba05169497e@150.164.76.86:8080
CREATED;VALUE=DATE-TIME:20230703T145117Z
DESCRIPTION:<p>Som e Luz</p>
LAST-MODIFIED;VALUE=DATE-TIME:20230703T153613Z
URL:http://150.164.76.86:8080/cac/agenda/16705907068730587127
END:VEVENT
BEGIN:VTIMEZONE
TZID:America/Sao_Paulo
X-LIC-LOCATION:America/Sao_Paulo
BEGIN:STANDARD
DTSTART;VALUE=DATE-TIME:20230225T230000
TZNAME:BRT
TZOFFSETFROM:-0200
TZOFFSETTO:-0300
END:STANDARD
END:VTIMEZONE
END:VCALENDAR
