BEGIN:VCALENDAR
VERSION:2.0
PRODID:-//Plone.org//NONSGML plone.app.event//EN
X-WR-TIMEZONE:America/Sao_Paulo
BEGIN:VEVENT
SUMMARY:Reunião com Coordenadores de Cursos de Graduação -  Apresentaç
 ão do Plano de Trabalho para Gestão 2022-2026 em [ Auditorio da Reitoria
 ]
DTSTART;TZID=America/Sao_Paulo;VALUE=DATE-TIME:20220518T140000
DTEND;TZID=America/Sao_Paulo;VALUE=DATE-TIME:20220518T170000
DTSTAMP;VALUE=DATE-TIME:20260422T081616Z
UID:cd853da2d8d442e6a335b0f8d87cb6db@150.164.76.86:8080
CREATED;VALUE=DATE-TIME:20220429T125553Z
DESCRIPTION:<p>Microfone de mesa e avulso\, projetor.</p>
LAST-MODIFIED;VALUE=DATE-TIME:20220503T122403Z
URL:http://150.164.76.86:8080/cac/agenda/16704610234133661181
END:VEVENT
BEGIN:VTIMEZONE
TZID:America/Sao_Paulo
X-LIC-LOCATION:America/Sao_Paulo
BEGIN:STANDARD
DTSTART;VALUE=DATE-TIME:20220219T230000
TZNAME:BRT
TZOFFSETFROM:-0200
TZOFFSETTO:-0300
END:STANDARD
END:VTIMEZONE
END:VCALENDAR
