BEGIN:VCALENDAR
VERSION:2.0
PRODID:-//Plone.org//NONSGML plone.app.event//EN
X-WR-TIMEZONE:America/Sao_Paulo
BEGIN:VEVENT
SUMMARY:Palestra PRORH/FUNPRESP em [ Auditorio da Reitoria]
DTSTART;TZID=America/Sao_Paulo;VALUE=DATE-TIME:20240416T140000
DTEND;TZID=America/Sao_Paulo;VALUE=DATE-TIME:20240416T170000
DTSTAMP;VALUE=DATE-TIME:20260420T044740Z
UID:a2fe25faab8e4114a31f88c6a3e3fa57@150.164.76.86:8080
CREATED;VALUE=DATE-TIME:20240408T105847Z
DESCRIPTION:<p>Kit multimídia\, 02 microfones de mesa\, um microfone sem 
 fio para uso dos participantes na platéia\, uma mesa fora do auditório p
 ara servir água e café.</p>
LAST-MODIFIED;VALUE=DATE-TIME:20240415T185349Z
URL:http://150.164.76.86:8080/cac/agenda/16703572563922467790
END:VEVENT
BEGIN:VTIMEZONE
TZID:America/Sao_Paulo
X-LIC-LOCATION:America/Sao_Paulo
BEGIN:STANDARD
DTSTART;VALUE=DATE-TIME:20240217T230000
TZNAME:BRT
TZOFFSETFROM:-0200
TZOFFSETTO:-0300
END:STANDARD
END:VTIMEZONE
END:VCALENDAR
