BEGIN:VCALENDAR
VERSION:2.0
PRODID:-//Plone.org//NONSGML plone.app.event//EN
X-WR-TIMEZONE:America/Sao_Paulo
BEGIN:VEVENT
SUMMARY:IX Simpósio Acadêmico de Biomedicina da UFMG em [ Auditorio Nobr
 e do CAD 1]
DTSTART;TZID=America/Sao_Paulo;VALUE=DATE-TIME:20220915T080000
DTEND;TZID=America/Sao_Paulo;VALUE=DATE-TIME:20220916T190000
DTSTAMP;VALUE=DATE-TIME:20260422T012758Z
UID:6a79e1eba7bd44f5bab973843aff4883@150.164.76.86:8080
CREATED;VALUE=DATE-TIME:20220504T200403Z
DESCRIPTION:<p>O Simpósio Acadêmico de Biomedicina da UFMG (SABM – UFM
 G) foi criado no ano de 2013\, por iniciativa dos alunos do Centro Acadêm
 ico de Biomedicina da Universidade Federal de Minas Gerais (CABM)\, com o 
 apoio da Faculdade de Farmácia da UFMG\, especialmente dos professores do
  Departamento de Análises Clínicas e Toxicológicas. Este evento tem com
 o objetivo levar aos estudantes e profissionais da área de saúde conheci
 mentos associados à profissão\, favorecendo a troca de experiências ref
 erentes aos temas com profissionais que são referência nas áreas de atu
 ação possíveis na Biomedicina. Assim como em edições anteriores\, no 
 IX SABM serão discutidos assuntos pertinentes ao campo de atuação do pr
 ofissional biomédico\, bem como assuntos de interesse à comunidade acad
 êmica. O encontro contribuirá para o desenvolvimento de uma visão crít
 ica dos recursos humanos em formação pela Universidade\, permitindo uma 
 melhor compreensão do seu papel como agentes de saúde em nossa sociedade
 . Também apresentará novidades referentes à pesquisa e desenvolvimento 
 nas diferentes áreas de atuação da biomedicina. Sendo assim\, o evento 
 é baseado em três pilares - ensino\, pesquisa e extensão.</p>
LAST-MODIFIED;VALUE=DATE-TIME:20220913T192818Z
URL:http://150.164.76.86:8080/cac/agenda/16701343056137535440
END:VEVENT
BEGIN:VTIMEZONE
TZID:America/Sao_Paulo
X-LIC-LOCATION:America/Sao_Paulo
BEGIN:STANDARD
DTSTART;VALUE=DATE-TIME:20220219T230000
TZNAME:BRT
TZOFFSETFROM:-0200
TZOFFSETTO:-0300
END:STANDARD
END:VTIMEZONE
END:VCALENDAR
