BEGIN:VCALENDAR
VERSION:2.0
PRODID:-//Plone.org//NONSGML plone.app.event//EN
X-WR-TIMEZONE:America/Sao_Paulo
BEGIN:VEVENT
SUMMARY:CAPACIDADE EXCEDIDA em [ Saguao da Reitoria Auditorio da Reitoria 
 Gramado da Reitoria Auditorio 1A do CAD 1 Auditorio 2A do CAD 1 Arena da p
 raça de serviços Auditório B301 do CAD 3 Auditorio A104 do Cad 2]
DTSTART;TZID=America/Sao_Paulo;VALUE=DATE-TIME:20200511T000000
DTEND;TZID=America/Sao_Paulo;VALUE=DATE-TIME:20200513T230000
DTSTAMP;VALUE=DATE-TIME:20260424T233817Z
UID:88f0836c68954703a1cc54d16fe84c85@150.164.76.86:8080
CREATED;VALUE=DATE-TIME:20200205T133309Z
DESCRIPTION:<p>.</p>
LAST-MODIFIED;VALUE=DATE-TIME:20200205T133426Z
URL:http://150.164.76.86:8080/cac/agenda/16697063044157740938
END:VEVENT
BEGIN:VTIMEZONE
TZID:America/Sao_Paulo
X-LIC-LOCATION:America/Sao_Paulo
BEGIN:STANDARD
DTSTART;VALUE=DATE-TIME:20200215T230000
TZNAME:BRT
TZOFFSETFROM:-0200
TZOFFSETTO:-0300
END:STANDARD
END:VTIMEZONE
END:VCALENDAR
