BEGIN:VCALENDAR
VERSION:2.0
PRODID:-//Plone.org//NONSGML plone.app.event//EN
X-WR-TIMEZONE:America/Sao_Paulo
BEGIN:VEVENT
SUMMARY:6º Colóquio Universidade e Comunicação Pública: Memória Inst
 itucional em [ Auditorio da Reitoria]
DTSTART;TZID=America/Sao_Paulo;VALUE=DATE-TIME:20241003T080000
DTEND;TZID=America/Sao_Paulo;VALUE=DATE-TIME:20241004T180000
DTSTAMP;VALUE=DATE-TIME:20260419T192258Z
UID:6e912e8ce62c42d797e42a7251d97f6d@150.164.76.86:8080
CREATED;VALUE=DATE-TIME:20240911T150215Z
DESCRIPTION:<p>X</p>\n<div class="elementToProof">Após redimensionamento 
 de evento\, iremos levar o evento para FAFICH\, desse modo solicito que ca
 ncele a reserva para o auditório da Reitoria. </div>\n<div class="elemen
 tToProof"></div>\n<div class="elementToProof">Iremos precisar do apoio da 
 CAC\, apenas para solenidade de abertura do evento no conservatório UFMG.
  </div>\n<p> email em 25/09/2024</p>
LAST-MODIFIED;VALUE=DATE-TIME:20240925T201940Z
URL:http://150.164.76.86:8080/cac/agenda/16696213398172440729
END:VEVENT
BEGIN:VTIMEZONE
TZID:America/Sao_Paulo
X-LIC-LOCATION:America/Sao_Paulo
BEGIN:STANDARD
DTSTART;VALUE=DATE-TIME:20240217T230000
TZNAME:BRT
TZOFFSETFROM:-0200
TZOFFSETTO:-0300
END:STANDARD
END:VTIMEZONE
END:VCALENDAR
