BEGIN:VCALENDAR
VERSION:2.0
PRODID:-//Plone.org//NONSGML plone.app.event//EN
X-WR-TIMEZONE:America/Sao_Paulo
BEGIN:VEVENT
SUMMARY:Aniversário UFMG em [ Auditorio Nobre do CAD 1]
DTSTART;TZID=America/Sao_Paulo;VALUE=DATE-TIME:20240902T080000
DTEND;TZID=America/Sao_Paulo;VALUE=DATE-TIME:20240906T200000
DTSTAMP;VALUE=DATE-TIME:20260419T193323Z
UID:a62c69106c7e4d72b6c75411085d930b@150.164.76.86:8080
CREATED;VALUE=DATE-TIME:20231114T142952Z
DESCRIPTION:<p>pré-reserva</p>
LAST-MODIFIED;VALUE=DATE-TIME:20240821T195951Z
URL:http://150.164.76.86:8080/cac/agenda/1669298241758063494
END:VEVENT
BEGIN:VTIMEZONE
TZID:America/Sao_Paulo
X-LIC-LOCATION:America/Sao_Paulo
BEGIN:STANDARD
DTSTART;VALUE=DATE-TIME:20240217T230000
TZNAME:BRT
TZOFFSETFROM:-0200
TZOFFSETTO:-0300
END:STANDARD
END:VTIMEZONE
END:VCALENDAR
