BEGIN:VCALENDAR
VERSION:2.0
PRODID:-//Plone.org//NONSGML plone.app.event//EN
X-WR-TIMEZONE:America/Sao_Paulo
BEGIN:VEVENT
SUMMARY:Vestibular Letras Libras em [ Outros espacos]
DTSTART;TZID=America/Sao_Paulo;VALUE=DATE-TIME:20240525T070000
DTEND;TZID=America/Sao_Paulo;VALUE=DATE-TIME:20240526T210000
DTSTAMP;VALUE=DATE-TIME:20260420T030405Z
UID:6469829cfeda4f6880c7783ee00a60bd@150.164.76.86:8080
CREATED;VALUE=DATE-TIME:20240425T163542Z
DESCRIPTION:<p><b><span>CONCURSO PARA O CURSO DE GRADUAÇÃO EM LETRAS –
  LIBRAS LICENCIATURA UFMG </span></b><b><span>2024</span></b></p>
LAST-MODIFIED;VALUE=DATE-TIME:20240425T163556Z
URL:http://150.164.76.86:8080/cac/agenda/1668790572288648367
END:VEVENT
BEGIN:VTIMEZONE
TZID:America/Sao_Paulo
X-LIC-LOCATION:America/Sao_Paulo
BEGIN:STANDARD
DTSTART;VALUE=DATE-TIME:20240217T230000
TZNAME:BRT
TZOFFSETFROM:-0200
TZOFFSETTO:-0300
END:STANDARD
END:VTIMEZONE
END:VCALENDAR
