BEGIN:VCALENDAR
VERSION:2.0
PRODID:-//Plone.org//NONSGML plone.app.event//EN
X-WR-TIMEZONE:America/Sao_Paulo
BEGIN:VEVENT
SUMMARY:Cerimônia de outorga do título de Professora Emérita à Profess
 ora da Faculdade de Letras\, Eunice Pontes. em [ Outros espacos]
DTSTART;TZID=America/Sao_Paulo;VALUE=DATE-TIME:20220607T180000
DTEND;TZID=America/Sao_Paulo;VALUE=DATE-TIME:20220607T210000
DTSTAMP;VALUE=DATE-TIME:20260422T064721Z
UID:e2124c05982e4ea1acff6597eb0c3c6d@150.164.76.86:8080
CREATED;VALUE=DATE-TIME:20220517T165454Z
DESCRIPTION:<p>Cerimônia de outorga do título de Professora Emérita à 
 Profa. Eunice Souza Lima Pontes</p>
LAST-MODIFIED;VALUE=DATE-TIME:20220602T181759Z
URL:http://150.164.76.86:8080/cac/agenda/16668995331543077451
END:VEVENT
BEGIN:VTIMEZONE
TZID:America/Sao_Paulo
X-LIC-LOCATION:America/Sao_Paulo
BEGIN:STANDARD
DTSTART;VALUE=DATE-TIME:20220219T230000
TZNAME:BRT
TZOFFSETFROM:-0200
TZOFFSETTO:-0300
END:STANDARD
END:VTIMEZONE
END:VCALENDAR
