BEGIN:VCALENDAR
VERSION:2.0
PRODID:-//Plone.org//NONSGML plone.app.event//EN
X-WR-TIMEZONE:America/Sao_Paulo
BEGIN:VEVENT
SUMMARY:XI Brazilian Meeting on Simulational Physics em [ Auditório B101/
 102 do CAD 3]
DTSTART;TZID=America/Sao_Paulo;VALUE=DATE-TIME:20231030T080000
DTEND;TZID=America/Sao_Paulo;VALUE=DATE-TIME:20231101T090000
DTSTAMP;VALUE=DATE-TIME:20260420T114742Z
UID:975412c8ff814adc81c16b729c71a14b@150.164.76.86:8080
CREATED;VALUE=DATE-TIME:20230523T191313Z
DESCRIPTION:<p>Evento com expectativa de 120 participantes que contará co
 m 16 palestras convidadas além de apresentações orais e de pôsteres pe
 los participantes inscritos. Iremos utilizar os recursos de projeção e s
 om do auditório. Também será necessário um espaço para a seção de p
 ôsteres e para realização de coffee-breaks. OBS: Evento ocorrerá em mo
 do aula.</p>
LAST-MODIFIED;VALUE=DATE-TIME:20231016T123802Z
URL:http://150.164.76.86:8080/cac/agenda/16658885246055143623
END:VEVENT
BEGIN:VTIMEZONE
TZID:America/Sao_Paulo
X-LIC-LOCATION:America/Sao_Paulo
BEGIN:DAYLIGHT
DTSTART;VALUE=DATE-TIME:20231015T010000
TZNAME:BRST
TZOFFSETFROM:-0300
TZOFFSETTO:-0200
END:DAYLIGHT
END:VTIMEZONE
END:VCALENDAR
