BEGIN:VCALENDAR
VERSION:2.0
PRODID:-//Plone.org//NONSGML plone.app.event//EN
X-WR-TIMEZONE:America/Sao_Paulo
BEGIN:VEVENT
SUMMARY:Abertura 59ª Reunião da ABENO em [ Outros espacos]
DTSTART;TZID=America/Sao_Paulo;VALUE=DATE-TIME:20240710T190000
DTEND;TZID=America/Sao_Paulo;VALUE=DATE-TIME:20240710T200000
DTSTAMP;VALUE=DATE-TIME:20260419T234928Z
UID:90c034e7bd09484180d2699a68832623@150.164.76.86:8080
CREATED;VALUE=DATE-TIME:20240628T160857Z
DESCRIPTION:<p>Cerimonial\, acompanhamento da Reitora</p>
LAST-MODIFIED;VALUE=DATE-TIME:20240628T160959Z
URL:http://150.164.76.86:8080/cac/agenda/16648966120743770023
END:VEVENT
BEGIN:VTIMEZONE
TZID:America/Sao_Paulo
X-LIC-LOCATION:America/Sao_Paulo
BEGIN:STANDARD
DTSTART;VALUE=DATE-TIME:20240217T230000
TZNAME:BRT
TZOFFSETFROM:-0200
TZOFFSETTO:-0300
END:STANDARD
END:VTIMEZONE
END:VCALENDAR
