BEGIN:VCALENDAR
VERSION:2.0
PRODID:-//Plone.org//NONSGML plone.app.event//EN
X-WR-TIMEZONE:America/Sao_Paulo
BEGIN:VEVENT
SUMMARY:Colóquio Impasses da psicanálise na universidade em [ Auditorio 
 A104 do Cad 2]
DTSTART;TZID=America/Sao_Paulo;VALUE=DATE-TIME:20200507T080000
DTEND;TZID=America/Sao_Paulo;VALUE=DATE-TIME:20200507T190000
DTSTAMP;VALUE=DATE-TIME:20260424T233732Z
UID:8b257ad1d0894b039a2d3db9ee4e1ee8@150.164.76.86:8080
CREATED;VALUE=DATE-TIME:20200206T122535Z
DESCRIPTION:4 microfones (3 para a mesa\, 1 para circular na plateia)\n4 c
 adeiras\nAr condicionado\nEquipamento audiovisual\nMesas externas para cre
 denciamento e coffee break (com 4 cadeiras)\n\nProgramação do evento:\n0
 8:00-08:30 - Credenciamento\n08:30-09:00 - Mesa de abertura\n09:00-10:30 -
  Mesa 1: Psicanálise e as novas epistemologias: impasses para a universid
 ade\n         -Christian Dunker\n         -Gilson Iannini\n         -media
 dora: Ângela Vorcaro\n10:30-12:00 - Mesa 2: Decolonialismo\, racismo e ps
 icanálise\n	-Andréa Guerra\n	-Alessandro Santos\n	-mediador: Lucas Alves
 \n12:00-13:30 - Almoço\n13:30-15:00 - Mesa 3: Saúde mental\, psicopatolo
 gia e psicanálise\n	-Antônio Teixeira\n	-Cristiana Ferreira\n	-mediadora
 : Ana Paula Menezes\n15:00-16:30 - Mesa 4: Autismo\, DSM e o diagnóstico 
 em psicanálise\n	-Márcia Rosa\n	-Julianne Oliveira\n	-mediador: Mateus M
 ourão\n16:30-17:00 - Coffee break\n17:00-19:00 - Mesa 5: Gênero\, sexual
 idade e psicanálise\n	-Guilherme Massara\n	-Maíra Moreira\n	-mediador: V
 inícius Lima
LAST-MODIFIED;VALUE=DATE-TIME:20200213T125712Z
URL:http://150.164.76.86:8080/cac/agenda/1662905790632363299
END:VEVENT
BEGIN:VTIMEZONE
TZID:America/Sao_Paulo
X-LIC-LOCATION:America/Sao_Paulo
BEGIN:STANDARD
DTSTART;VALUE=DATE-TIME:20200215T230000
TZNAME:BRT
TZOFFSETFROM:-0200
TZOFFSETTO:-0300
END:STANDARD
END:VTIMEZONE
END:VCALENDAR
