BEGIN:VCALENDAR
VERSION:2.0
PRODID:-//Plone.org//NONSGML plone.app.event//EN
X-WR-TIMEZONE:America/Sao_Paulo
BEGIN:VEVENT
SUMMARY:II Simpósio da LiTeCC em [ Auditorio A104 do Cad 2]
DTSTART;TZID=America/Sao_Paulo;VALUE=DATE-TIME:20241126T070000
DTEND;TZID=America/Sao_Paulo;VALUE=DATE-TIME:20241126T170000
DTSTAMP;VALUE=DATE-TIME:20260419T175901Z
UID:f69e4cb3588846c39fa7c5acea26656c@150.164.76.86:8080
CREATED;VALUE=DATE-TIME:20241022T184021Z
DESCRIPTION:Equipamentos: sistema de projeção de imagem e som\, ar condi
 cionado\, mobiliário de palco.\nO Simpósio será organizado pela Liga de
  Terapias Cognitivo-Comportamentais da UFMG terá como tema "Formulação 
 de Caso em Terapias Cognitivas e Comportamentais: um caso clínico".\n O o
 bjetivo do Simpósio é trazer palestrantes que trabalham com as TCCs para
  discutir casos clínicos\nProgramação: o evento se iniciará às 08:00 
 e terminará às 11:20 com palestras sobre ACT\, DBT e FAP\, seguido por u
 m intervalo de almoço de 11:20 até 13:00. Após o almoço\, serão reali
 zadas as palestras de TCC\, TFC e TE.
LAST-MODIFIED;VALUE=DATE-TIME:20241022T190556Z
URL:http://150.164.76.86:8080/cac/agenda/16626171593317670023
END:VEVENT
BEGIN:VTIMEZONE
TZID:America/Sao_Paulo
X-LIC-LOCATION:America/Sao_Paulo
BEGIN:DAYLIGHT
DTSTART;VALUE=DATE-TIME:20241020T010000
TZNAME:BRST
TZOFFSETFROM:-0300
TZOFFSETTO:-0200
END:DAYLIGHT
END:VTIMEZONE
END:VCALENDAR
