BEGIN:VCALENDAR
VERSION:2.0
PRODID:-//Plone.org//NONSGML plone.app.event//EN
X-WR-TIMEZONE:America/Sao_Paulo
BEGIN:VEVENT
SUMMARY:XXVIII Encontro de Pesquisa em Fisiologia e Farmacologia da UFMG e
 m [ Outros espacos Auditório B106 do CAD3]
DTSTART;TZID=America/Sao_Paulo;VALUE=DATE-TIME:20221116T070000
DTEND;TZID=America/Sao_Paulo;VALUE=DATE-TIME:20221118T190000
DTSTAMP;VALUE=DATE-TIME:20260421T221843Z
UID:ef2570db711e4b35ba95df84333905d4@150.164.76.86:8080
CREATED;VALUE=DATE-TIME:20220629T144816Z
DESCRIPTION:<p>Equipamentos: púlpito com notebook\, retroprojetor e tela\
 , caneta apontadora\, mesa com 5 cadeiras\, 5 microfones de mesa\, 2 micro
 fones sem fio\, 15 suportes para pôster Serviços: técnicos de imagem e 
 som 16/11 8h30 9h Abertura 9h15 10h15 Palestra 1 10h30 12h Minicursos 14h 
 14h45 Mesa Temática 1 15h 16h15 Apresentação Oral 16h30 17h30 Pôster 1
 7/11 9h15 10h15 Palestra 2 10h30 12h Minicursos 14h 14h45 Mesa Temática 2
  15h 16h15 Apresentação Oral 16h30 17h30 Pôster 18/11 9h15 10h15 Palest
 ra 3 10h30 12h Minicursos 14h 14h45 Mesa Temática 3 15h 16h Palestra Inte
 rnacional 16h15 16h45 Premiações</p>
LAST-MODIFIED;VALUE=DATE-TIME:20220916T180705Z
URL:http://150.164.76.86:8080/cac/agenda/16617910054241686345
END:VEVENT
BEGIN:VTIMEZONE
TZID:America/Sao_Paulo
X-LIC-LOCATION:America/Sao_Paulo
BEGIN:DAYLIGHT
DTSTART;VALUE=DATE-TIME:20221016T010000
TZNAME:BRST
TZOFFSETFROM:-0300
TZOFFSETTO:-0200
END:DAYLIGHT
END:VTIMEZONE
END:VCALENDAR
