BEGIN:VCALENDAR
VERSION:2.0
PRODID:-//Plone.org//NONSGML plone.app.event//EN
X-WR-TIMEZONE:America/Sao_Paulo
BEGIN:VEVENT
SUMMARY:(Re)Conexões em [ Auditorio A102 do Cad 2]
DTSTART;TZID=America/Sao_Paulo;VALUE=DATE-TIME:20240626T070000
DTEND;TZID=America/Sao_Paulo;VALUE=DATE-TIME:20240626T170000
DTSTAMP;VALUE=DATE-TIME:20260420T012638Z
UID:34f13bb9303844c9a2e259d8a002cb3b@150.164.76.86:8080
CREATED;VALUE=DATE-TIME:20240515T191217Z
DESCRIPTION:<p>O Sistema Estadual de Museus de Minas Gerais e o Instituto 
 Brasileiro de Museus realizará no dia 06/06 (quinta-feira)um evento do pr
 ograma (RE)Conexões \, programa este que busca estreitar laços com a soc
 iedade e fortalecer as ações do campo museal. Ibram lança Programa (Re)
 Conexões — Instituto Brasileiro de Museus - Ibram (www.gov.br) O evento
  é realizado em parceria com a ECI e terá a presença de técnicos do IB
 RAM e SECULT. O foco será a atualização do Plano Nacional Setorial de M
 useus e será feita a seguinte dinâmica: uma plenária geral na parte da 
 manhã e a formação de quatro grupos de trabalho na parte da tarde\, par
 a propor a criação de diretrizes para a PNSM. Encerrando o dia com a apr
 esentação destas diretrizes e a eleição de duas delas para serem debat
 idas no 8º Fórum Nacional de Museus. O EVENTO TINHA SIDO MARCADO PARA O 
 DIA 06/06\, mas em virtude da agenda da Presidenta do IBRAM\, teve que ser
  remarcado</p>
LAST-MODIFIED;VALUE=DATE-TIME:20240517T181810Z
URL:http://150.164.76.86:8080/cac/agenda/16601740067507538704
END:VEVENT
BEGIN:VTIMEZONE
TZID:America/Sao_Paulo
X-LIC-LOCATION:America/Sao_Paulo
BEGIN:STANDARD
DTSTART;VALUE=DATE-TIME:20240217T230000
TZNAME:BRT
TZOFFSETFROM:-0200
TZOFFSETTO:-0300
END:STANDARD
END:VTIMEZONE
END:VCALENDAR
