BEGIN:VCALENDAR
VERSION:2.0
PRODID:-//Plone.org//NONSGML plone.app.event//EN
X-WR-TIMEZONE:America/Sao_Paulo
BEGIN:VEVENT
SUMMARY:Enade 2024 - Orientações sobre a Avaliação da Prática em [ Au
 ditório B107 do CAD3]
DTSTART;TZID=America/Sao_Paulo;VALUE=DATE-TIME:20241011T090000
DTEND;TZID=America/Sao_Paulo;VALUE=DATE-TIME:20241011T120000
DTSTAMP;VALUE=DATE-TIME:20260419T192105Z
UID:cb2df2f9463a42368408aa7997254c2d@150.164.76.86:8080
CREATED;VALUE=DATE-TIME:20241001T180754Z
DESCRIPTION:Trata-se de evento que tem por finalidade orientar coordenador
 es e docentes do estágio obrigatório sobre o novo instrumento de avalia
 ção do Enade 2024 - Enade das Licenciaturas\, qual seja\, a Avaliação 
 da Prática.
LAST-MODIFIED;VALUE=DATE-TIME:20241001T190903Z
URL:http://150.164.76.86:8080/cac/agenda/16598676788337973575
END:VEVENT
BEGIN:VTIMEZONE
TZID:America/Sao_Paulo
X-LIC-LOCATION:America/Sao_Paulo
BEGIN:STANDARD
DTSTART;VALUE=DATE-TIME:20240217T230000
TZNAME:BRT
TZOFFSETFROM:-0200
TZOFFSETTO:-0300
END:STANDARD
END:VTIMEZONE
END:VCALENDAR
