BEGIN:VCALENDAR
VERSION:2.0
PRODID:-//Plone.org//NONSGML plone.app.event//EN
X-WR-TIMEZONE:America/Sao_Paulo
BEGIN:VEVENT
SUMMARY:Aula Magna Ministro dos Direitos Humanos em [ Auditorio da Reitori
 a]
DTSTART;TZID=America/Sao_Paulo;VALUE=DATE-TIME:20230814T140000
DTEND;TZID=America/Sao_Paulo;VALUE=DATE-TIME:20230814T170000
DTSTAMP;VALUE=DATE-TIME:20260421T091452Z
UID:1642434ea4e84acf92f14d76b7b3373f@150.164.76.86:8080
CREATED;VALUE=DATE-TIME:20230725T152753Z
DESCRIPTION:<p><span>Aula Magna do Ministro dos Direito Humanos\, Silvio 
  Luiz de Almeida - Auditório da Reitoria</span></p>
LAST-MODIFIED;VALUE=DATE-TIME:20230725T175651Z
URL:http://150.164.76.86:8080/cac/agenda/1657571260494118224
END:VEVENT
BEGIN:VTIMEZONE
TZID:America/Sao_Paulo
X-LIC-LOCATION:America/Sao_Paulo
BEGIN:STANDARD
DTSTART;VALUE=DATE-TIME:20230225T230000
TZNAME:BRT
TZOFFSETFROM:-0200
TZOFFSETTO:-0300
END:STANDARD
END:VTIMEZONE
END:VCALENDAR
