BEGIN:VCALENDAR
VERSION:2.0
PRODID:-//Plone.org//NONSGML plone.app.event//EN
X-WR-TIMEZONE:America/Sao_Paulo
BEGIN:VEVENT
SUMMARY:Posse Diretoria FAFICH em [ Outros espacos]
DTSTART;TZID=America/Sao_Paulo;VALUE=DATE-TIME:20231110T150000
DTEND;TZID=America/Sao_Paulo;VALUE=DATE-TIME:20231110T170000
DTSTAMP;VALUE=DATE-TIME:20260420T143337Z
UID:bcb2d52dd6354d5b866ba2ab0b66da0d@150.164.76.86:8080
CREATED;VALUE=DATE-TIME:20231024T143205Z
DESCRIPTION:<p><span style="text-align: left\; text-decoration-thickness: 
 initial\; text-decoration-style: initial\; text-decoration-color: initial\
 ; float: none\; ">Posse Diretoria FAFICH</span></p>
LAST-MODIFIED;VALUE=DATE-TIME:20231024T143214Z
URL:http://150.164.76.86:8080/cac/agenda/16562295735638797299
END:VEVENT
BEGIN:VTIMEZONE
TZID:America/Sao_Paulo
X-LIC-LOCATION:America/Sao_Paulo
BEGIN:DAYLIGHT
DTSTART;VALUE=DATE-TIME:20231015T010000
TZNAME:BRST
TZOFFSETFROM:-0300
TZOFFSETTO:-0200
END:DAYLIGHT
END:VTIMEZONE
END:VCALENDAR
