BEGIN:VCALENDAR
VERSION:2.0
PRODID:-//Plone.org//NONSGML plone.app.event//EN
X-WR-TIMEZONE:America/Sao_Paulo
BEGIN:VEVENT
SUMMARY:CAPACIDADE EXCEDIDA em [ Auditorio Nobre do CAD 1 Auditorio 1A do 
 CAD 1 Auditorio 2A do CAD 1 Auditório B301 do CAD 3 Em torno da Praca de 
 Servicos]
DTSTART;TZID=America/Sao_Paulo;VALUE=DATE-TIME:20200720T000000
DTEND;TZID=America/Sao_Paulo;VALUE=DATE-TIME:20200720T230000
DTSTAMP;VALUE=DATE-TIME:20260424T210731Z
UID:228f3f57736a4cf08c9f8a12d1c929e8@150.164.76.86:8080
CREATED;VALUE=DATE-TIME:20200206T115235Z
DESCRIPTION:<p>.</p>
LAST-MODIFIED;VALUE=DATE-TIME:20200214T155504Z
URL:http://150.164.76.86:8080/cac/agenda/16561859808360028976
END:VEVENT
BEGIN:VTIMEZONE
TZID:America/Sao_Paulo
X-LIC-LOCATION:America/Sao_Paulo
BEGIN:STANDARD
DTSTART;VALUE=DATE-TIME:20200215T230000
TZNAME:BRT
TZOFFSETFROM:-0200
TZOFFSETTO:-0300
END:STANDARD
END:VTIMEZONE
END:VCALENDAR
