BEGIN:VCALENDAR
VERSION:2.0
PRODID:-//Plone.org//NONSGML plone.app.event//EN
X-WR-TIMEZONE:America/Sao_Paulo
BEGIN:VEVENT
SUMMARY:Feira de Artesanato em [ Entorno da Praca de Servicos]
DTSTART;TZID=America/Sao_Paulo;VALUE=DATE-TIME:20230313T080000
DTEND;TZID=America/Sao_Paulo;VALUE=DATE-TIME:20230324T170000
DTSTAMP;VALUE=DATE-TIME:20260421T164119Z
UID:6f24de454fd24ba7b04d78c477e8d6e0@150.164.76.86:8080
CREATED;VALUE=DATE-TIME:20221212T133807Z
DESCRIPTION:Empréstimo de 70 painéis e limpeza do local.
LAST-MODIFIED;VALUE=DATE-TIME:20221215T172805Z
URL:http://150.164.76.86:8080/cac/agenda/16539365207686972419
END:VEVENT
BEGIN:VTIMEZONE
TZID:America/Sao_Paulo
X-LIC-LOCATION:America/Sao_Paulo
BEGIN:STANDARD
DTSTART;VALUE=DATE-TIME:20230225T230000
TZNAME:BRT
TZOFFSETFROM:-0200
TZOFFSETTO:-0300
END:STANDARD
END:VTIMEZONE
END:VCALENDAR
