BEGIN:VCALENDAR
VERSION:2.0
PRODID:-//Plone.org//NONSGML plone.app.event//EN
X-WR-TIMEZONE:America/Sao_Paulo
BEGIN:VEVENT
SUMMARY:BANCAS DE HETEROIDENTIFICAÇÃO em [ Outros espacos]
DTSTART;TZID=America/Sao_Paulo;VALUE=DATE-TIME:20230623T070000
DTEND;TZID=America/Sao_Paulo;VALUE=DATE-TIME:20230623T180000
DTSTAMP;VALUE=DATE-TIME:20260421T161025Z
UID:c9a83ca84f2c4ab5ba340811671dcc14@150.164.76.86:8080
CREATED;VALUE=DATE-TIME:20230620T110740Z
DESCRIPTION:<p>Será realizado no 3º andar devido à alteração de data\
 , sem disponibilidade de auditórios de eventos.</p>
LAST-MODIFIED;VALUE=DATE-TIME:20230620T131714Z
URL:http://150.164.76.86:8080/cac/agenda/16533453954009871696
END:VEVENT
BEGIN:VTIMEZONE
TZID:America/Sao_Paulo
X-LIC-LOCATION:America/Sao_Paulo
BEGIN:STANDARD
DTSTART;VALUE=DATE-TIME:20230225T230000
TZNAME:BRT
TZOFFSETFROM:-0200
TZOFFSETTO:-0300
END:STANDARD
END:VTIMEZONE
END:VCALENDAR
