BEGIN:VCALENDAR
VERSION:2.0
PRODID:-//Plone.org//NONSGML plone.app.event//EN
X-WR-TIMEZONE:America/Sao_Paulo
BEGIN:VEVENT
SUMMARY:ENEM 2023 2º Dia em [ Auditorio Nobre do CAD 1 Auditorio 1A do CA
 D 1 Auditorio 2A do CAD 1 Auditorio A102 do Cad 2 Auditorio A104 do Cad 2 
 Auditório B101/102 do CAD 3 Auditório B106 do CAD3 Auditório B107 do CA
 D3 Auditório B301 do CAD 3 Auditório B302 do CAD 3]
DTSTART;TZID=America/Sao_Paulo;VALUE=DATE-TIME:20231111T070000
DTEND;TZID=America/Sao_Paulo;VALUE=DATE-TIME:20231112T080000
DTSTAMP;VALUE=DATE-TIME:20260420T131803Z
UID:052a20c23b394955a9d7009a850e37c1@150.164.76.86:8080
CREATED;VALUE=DATE-TIME:20230509T204810Z
DESCRIPTION:<p>BLOQUEIO DOS ESPAÇOS PARA POSSÍVEL APLICAÇÃO DE PROVAS 
 DO ENEM  NOS CADs 2º DIA</p>
LAST-MODIFIED;VALUE=DATE-TIME:20230612T131703Z
URL:http://150.164.76.86:8080/cac/agenda/16516733788005213563
END:VEVENT
BEGIN:VTIMEZONE
TZID:America/Sao_Paulo
X-LIC-LOCATION:America/Sao_Paulo
BEGIN:DAYLIGHT
DTSTART;VALUE=DATE-TIME:20231015T010000
TZNAME:BRST
TZOFFSETFROM:-0300
TZOFFSETTO:-0200
END:DAYLIGHT
END:VTIMEZONE
END:VCALENDAR
