BEGIN:VCALENDAR
VERSION:2.0
PRODID:-//Plone.org//NONSGML plone.app.event//EN
X-WR-TIMEZONE:America/Sao_Paulo
BEGIN:VEVENT
SUMMARY:Reunião de equipe Gabinete em [ Outros espacos]
DTSTART;TZID=America/Sao_Paulo;VALUE=DATE-TIME:20220708T093000
DTEND;TZID=America/Sao_Paulo;VALUE=DATE-TIME:20220708T130000
DTSTAMP;VALUE=DATE-TIME:20260422T044435Z
UID:a4894735874a4c378cdf759dc88592ea@150.164.76.86:8080
CREATED;VALUE=DATE-TIME:20220704T132511Z
DESCRIPTION:<p>Suporte técnico</p>
LAST-MODIFIED;VALUE=DATE-TIME:20220704T132525Z
URL:http://150.164.76.86:8080/cac/agenda/1651482509262506405
END:VEVENT
BEGIN:VTIMEZONE
TZID:America/Sao_Paulo
X-LIC-LOCATION:America/Sao_Paulo
BEGIN:STANDARD
DTSTART;VALUE=DATE-TIME:20220219T230000
TZNAME:BRT
TZOFFSETFROM:-0200
TZOFFSETTO:-0300
END:STANDARD
END:VTIMEZONE
END:VCALENDAR
