BEGIN:VCALENDAR
VERSION:2.0
PRODID:-//Plone.org//NONSGML plone.app.event//EN
X-WR-TIMEZONE:America/Sao_Paulo
BEGIN:VEVENT
SUMMARY:I Evento Nacional SomosCorisco 2025 em [ Auditorio A104 do Cad 2]
DTSTART;TZID=America/Sao_Paulo;VALUE=DATE-TIME:20250424T080000
DTEND;TZID=America/Sao_Paulo;VALUE=DATE-TIME:20250424T120000
DTSTAMP;VALUE=DATE-TIME:20260419T104714Z
UID:866968472e294a64bc763fd2bf5badf1@150.164.76.86:8080
CREATED;VALUE=DATE-TIME:20250314T192323Z
DESCRIPTION:<p>Conferência da Dra. Fernanda Kaingang\, diretora do Museu 
 Nacional dos Povos Indígenas como parte da programação do I Encontro Na
 cional SomosCorisco 2025. Fomentando a participação de público externo 
 à universidade\, sobretudo na aliança com a Teia dos Povos de Minas Gera
 is e territórios de resistência contracolonial\, realizaremos um convite
  a grupos que desenvolvem pesquisas e ações em contextos de risco\, cole
 tivos que são compostos por pesquisadores\, ativistas e por movimentos so
 ciais\, na perspectiva de valorização do papel vital que têm na sustent
 ação dessas lutas. São estes que\, por meio de suas pesquisas\, anális
 es e ações políticas\, fornecem as ferramentas teóricas e práticas pa
 ra a desconstrução das narrativas coloniais que historicamente desumaniz
 aram e silenciaram essas populações. Esses grupos\, ao atuar em conjunto
 \, criam um ecossistema de resistência que vai além das fronteiras insti
 tucionais\, abrangendo uma diversidade de abordagens e saberes que reflete
 m a pluralidade dos contextos em que os povos indígenas e negros se encon
 tram e que têm na comunicação intermundos\, um lugar fundamental pelo q
 ual a luta se dá. Outra vez\, esta proposta figura como um aporte sustent
 ado pelo PDI\, que reitera a responsabilidade social do cidadão enquanto 
 dimensão formativa indissociável das atividades de ensino\, pesquisa e e
 xtensão. Desta forma\, buscamos\, ainda\, com esse encontro uma articula
 ção interdepartamental e interunidades na Fafich que será coordenado pe
 la Profª Drª Luciana de Oliveira (DCS/Fachich e Formação Transversal e
 m Saberes Tradicionais)\, com as partipações da Profª Drª. Cláudia Ma
 yorga (Departamento de Psicologia/Conexões de Saberes) e Profªs Drªs Ma
 ria Aparecida Moura (ECI/LabCult - Laboratório Multiusuário de Culturas 
 e Humanidades Digitais) e Maria Guiomar Frota (ECI/Universidade dos Direit
 os Humanos-Proex). Ainda\, por ser um encontro formatado para além da uni
 versidade\, visamos a articulação com Movimentos Sociais\, outros Grupos
  de Pesquisa e outras Instituições Acadêmicas (UFMG\, UFPA\, UFT e UFOP
 ) e de Ciência e Tecnologia (e IFRJ)\, visto que a temática extrapola o 
 campo da comunicação\, tendo repercussão transversal com muitos outros 
 departamentos e instituições tanto nas humanidades\, quanto em outras á
 reas.</p>
LAST-MODIFIED;VALUE=DATE-TIME:20250403T164331Z
URL:http://150.164.76.86:8080/cac/agenda/16512163292414983626
END:VEVENT
BEGIN:VTIMEZONE
TZID:America/Sao_Paulo
X-LIC-LOCATION:America/Sao_Paulo
BEGIN:STANDARD
DTSTART;VALUE=DATE-TIME:20250215T230000
TZNAME:BRT
TZOFFSETFROM:-0200
TZOFFSETTO:-0300
END:STANDARD
END:VTIMEZONE
END:VCALENDAR
