BEGIN:VCALENDAR
VERSION:2.0
PRODID:-//Plone.org//NONSGML plone.app.event//EN
X-WR-TIMEZONE:America/Sao_Paulo
BEGIN:VEVENT
SUMMARY:II Formação CMEC em [ Auditorio da Reitoria Outros espacos]
DTSTART;TZID=America/Sao_Paulo;VALUE=DATE-TIME:20241119T090000
DTEND;TZID=America/Sao_Paulo;VALUE=DATE-TIME:20241119T120000
DTSTAMP;VALUE=DATE-TIME:20260419T192538Z
UID:bfc8b286244c4c32835d81d6907c26dd@150.164.76.86:8080
CREATED;VALUE=DATE-TIME:20240925T122411Z
DESCRIPTION:<p>- Horário de início e término: 09h às 12h\; - Necessár
 io espaço para credenciamento? Onde? Não\; - Terá cofebreak? Não\; - N
 ecessário rede wifi? Não - Reitora estará presente? Não\; - Quantas pe
 ssoas vão compor a mesa? 2\; - Necessário toalha de mesa? Não\; - Neces
 sário microfone no pedestal abaixo do palco para perguntas do público? S
 im\; - Necessário trio de bandeiras(Brasil\, Minas\, UFMG)? Não\; - Nece
 ssário púlpito? Necessário microfone no púlpito? Não\, apenas na mesa
 \; - Necessário notebook no púlpito? ou esse poderá ficar na mesa de pa
 lco? Preferível que fique na mesa\; - Terá apresentação multimídia? Q
 ual formato? Apenas Power Point\; - Terá tradutor em libras? Ainda a conf
 irmar.</p>
LAST-MODIFIED;VALUE=DATE-TIME:20241018T125308Z
URL:http://150.164.76.86:8080/cac/agenda/1649992590866129258
END:VEVENT
BEGIN:VTIMEZONE
TZID:America/Sao_Paulo
X-LIC-LOCATION:America/Sao_Paulo
BEGIN:DAYLIGHT
DTSTART;VALUE=DATE-TIME:20241020T010000
TZNAME:BRST
TZOFFSETFROM:-0300
TZOFFSETTO:-0200
END:DAYLIGHT
END:VTIMEZONE
END:VCALENDAR
