BEGIN:VCALENDAR
VERSION:2.0
PRODID:-//Plone.org//NONSGML plone.app.event//EN
X-WR-TIMEZONE:America/Sao_Paulo
BEGIN:VEVENT
SUMMARY:Ensaio da Colação de Grau dos Formandos em Letras em [ Auditorio
  Nobre do CAD 1]
DTSTART;TZID=America/Sao_Paulo;VALUE=DATE-TIME:20240401T140000
DTEND;TZID=America/Sao_Paulo;VALUE=DATE-TIME:20240401T170000
DTSTAMP;VALUE=DATE-TIME:20260420T031201Z
UID:42232c27d1b7497086cd64fff9cc07d1@150.164.76.86:8080
CREATED;VALUE=DATE-TIME:20231030T193819Z
DESCRIPTION:<p>Ensaio para a Colação de Grau dos formandos em Letras. N
 ão será necessário a utilização de equipamento para realização do e
 nsaio.</p>
LAST-MODIFIED;VALUE=DATE-TIME:20240318T152924Z
URL:http://150.164.76.86:8080/cac/agenda/16485905892708369930
END:VEVENT
BEGIN:VTIMEZONE
TZID:America/Sao_Paulo
X-LIC-LOCATION:America/Sao_Paulo
BEGIN:STANDARD
DTSTART;VALUE=DATE-TIME:20240217T230000
TZNAME:BRT
TZOFFSETFROM:-0200
TZOFFSETTO:-0300
END:STANDARD
END:VTIMEZONE
END:VCALENDAR
