BEGIN:VCALENDAR
VERSION:2.0
PRODID:-//Plone.org//NONSGML plone.app.event//EN
X-WR-TIMEZONE:America/Sao_Paulo
BEGIN:VEVENT
SUMMARY:I Encontro da Rede de Materiais Perovskitas em [ Auditório B101/1
 02 do CAD 3 (102 s/ ar condic)]
DTSTART;TZID=America/Sao_Paulo;VALUE=DATE-TIME:20250424T090000
DTEND;TZID=America/Sao_Paulo;VALUE=DATE-TIME:20250425T170000
DTSTAMP;VALUE=DATE-TIME:20260419T120247Z
UID:d4bcf050757542dfbd6b5fea97fe8d83@150.164.76.86:8080
CREATED;VALUE=DATE-TIME:20250114T143523Z
DESCRIPTION:<p>Projetor e microfone com fio e sem fio. Cantina para coffee
  break.</p>
LAST-MODIFIED;VALUE=DATE-TIME:20250407T132331Z
URL:http://150.164.76.86:8080/cac/agenda/16483956118873997844
END:VEVENT
BEGIN:VTIMEZONE
TZID:America/Sao_Paulo
X-LIC-LOCATION:America/Sao_Paulo
BEGIN:STANDARD
DTSTART;VALUE=DATE-TIME:20250215T230000
TZNAME:BRT
TZOFFSETFROM:-0200
TZOFFSETTO:-0300
END:STANDARD
END:VTIMEZONE
END:VCALENDAR
