BEGIN:VCALENDAR
VERSION:2.0
PRODID:-//Plone.org//NONSGML plone.app.event//EN
X-WR-TIMEZONE:America/Sao_Paulo
BEGIN:VEVENT
SUMMARY:CURSO DE FORMAÇÃO PARA NOVOS MEMBROS DA COMISSÃO COMPLEMENTAR 
 À AUTODECLARAÇÃO RACIAL UFMG 2025 em [ Auditório B101/102 do CAD 3]
DTSTART;TZID=America/Sao_Paulo;VALUE=DATE-TIME:20241125T130000
DTEND;TZID=America/Sao_Paulo;VALUE=DATE-TIME:20241125T190000
DTSTAMP;VALUE=DATE-TIME:20260419T175601Z
UID:7d7772fdac234ded81fe5f027754d34f@150.164.76.86:8080
CREATED;VALUE=DATE-TIME:20241106T141739Z
DESCRIPTION:<p><span>Etapa obrigatória para inclusão de novos membros na
  Comissão Complementar a Autodeclaração Racial dos Processos Seletivos 
 da UFMG\, para o ano de 2025</span></p>
LAST-MODIFIED;VALUE=DATE-TIME:20241106T165654Z
URL:http://150.164.76.86:8080/cac/agenda/16460671961587459032
END:VEVENT
BEGIN:VTIMEZONE
TZID:America/Sao_Paulo
X-LIC-LOCATION:America/Sao_Paulo
BEGIN:DAYLIGHT
DTSTART;VALUE=DATE-TIME:20241020T010000
TZNAME:BRST
TZOFFSETFROM:-0300
TZOFFSETTO:-0200
END:DAYLIGHT
END:VTIMEZONE
END:VCALENDAR
