BEGIN:VCALENDAR
VERSION:2.0
PRODID:-//Plone.org//NONSGML plone.app.event//EN
X-WR-TIMEZONE:America/Sao_Paulo
BEGIN:VEVENT
SUMMARY:Reunião com IES Mineiras em [ Outros espacos]
DTSTART;TZID=America/Sao_Paulo;VALUE=DATE-TIME:20240201T100000
DTEND;TZID=America/Sao_Paulo;VALUE=DATE-TIME:20240201T120000
DTSTAMP;VALUE=DATE-TIME:20260420T063142Z
UID:e7fb22fe7dd548a4a93937e807ed5919@150.164.76.86:8080
CREATED;VALUE=DATE-TIME:20240129T183522Z
DESCRIPTION:<p><span><span>reunião com IES Mineiras</span></span></p>
LAST-MODIFIED;VALUE=DATE-TIME:20240129T183751Z
URL:http://150.164.76.86:8080/cac/agenda/16460493279532169689
END:VEVENT
BEGIN:VTIMEZONE
TZID:America/Sao_Paulo
X-LIC-LOCATION:America/Sao_Paulo
BEGIN:DAYLIGHT
DTSTART;VALUE=DATE-TIME:20231015T010000
TZNAME:BRST
TZOFFSETFROM:-0300
TZOFFSETTO:-0200
END:DAYLIGHT
END:VTIMEZONE
END:VCALENDAR
