BEGIN:VCALENDAR
VERSION:2.0
PRODID:-//Plone.org//NONSGML plone.app.event//EN
X-WR-TIMEZONE:America/Sao_Paulo
BEGIN:VEVENT
SUMMARY:Palestra - O curso de Elaboração de Projetos de Pesquisa - Ciclo
  de Palestras EPP em [ Auditorio A102 do Cad 2]
DTSTART;TZID=America/Sao_Paulo;VALUE=DATE-TIME:20240916T140000
DTEND;TZID=America/Sao_Paulo;VALUE=DATE-TIME:20240916T160000
DTSTAMP;VALUE=DATE-TIME:20260419T205546Z
UID:2bfdadfae3b64d7a976ed5d66dd45020@150.164.76.86:8080
CREATED;VALUE=DATE-TIME:20240305T130732Z
DESCRIPTION:A palestra faz parte do Ciclo de Palestras Preparatórias para
  o Curso de Elaboração de Projetos de Pesquisa. Está inserida no Plano 
 de Desenvolvimento de Pessoas da UFMG 2024 e necessita de transmissão ao 
 vivo.
LAST-MODIFIED;VALUE=DATE-TIME:20240306T141309Z
URL:http://150.164.76.86:8080/cac/agenda/1643640675188653812
END:VEVENT
BEGIN:VTIMEZONE
TZID:America/Sao_Paulo
X-LIC-LOCATION:America/Sao_Paulo
BEGIN:STANDARD
DTSTART;VALUE=DATE-TIME:20240217T230000
TZNAME:BRT
TZOFFSETFROM:-0200
TZOFFSETTO:-0300
END:STANDARD
END:VTIMEZONE
END:VCALENDAR
